BEGIN:VCALENDAR
VERSION:2.0
PRODID:-//wp-events-plugin.com//7.2.3.1//EN
TZID:Australia/Melbourne
X-WR-TIMEZONE:Australia/Melbourne
BEGIN:VEVENT
UID:348@mysticaldragon.com.au
DTSTART;TZID=Australia/Melbourne:20260310T103000
DTEND;TZID=Australia/Melbourne:20260428T110000
DTSTAMP:20260305T003757Z
URL:https://mysticaldragon.com.au/courses-and-events/morning-meditation-se
 ssion/
SUMMARY:Morning Meditation Session
DESCRIPTION:Take some well-deserved time for yourself and enjoy a guided mo
 rning meditation lead by Mystical Dragon’s lovely Amanda Godfrey. These 
 stand-alone sessions are focused on relaxation. Be ready to enjoy this YOU
  time!\n\nBook Now More Info
CATEGORIES:Meditation
LOCATION:Mystical Dragon\, 22 Heversham Drive\, Seaford\, Victoria\, 3198\,
  Australia
X-APPLE-STRUCTURED-LOCATION;VALUE=URI;X-ADDRESS=22 Heversham Drive\, Seafor
 d\, Victoria\, 3198\, Australia;X-APPLE-RADIUS=100;X-TITLE=Mystical Dragon
 :geo:0,0
END:VEVENT
BEGIN:VTIMEZONE
TZID:Australia/Melbourne
X-LIC-LOCATION:Australia/Melbourne
BEGIN:DAYLIGHT
DTSTART:20251005T030000
TZOFFSETFROM:+1000
TZOFFSETTO:+1100
TZNAME:AEDT
END:DAYLIGHT
BEGIN:STANDARD
DTSTART:20260405T020000
TZOFFSETFROM:+1100
TZOFFSETTO:+1000
TZNAME:AEST
END:STANDARD
END:VTIMEZONE
END:VCALENDAR